BEGIN:VCALENDAR
VERSION:2.0
PRODID:-//Grön Kyrka - ECPv6.15.18//NONSGML v1.0//EN
CALSCALE:GREGORIAN
METHOD:PUBLISH
X-WR-CALNAME:Grön Kyrka
X-ORIGINAL-URL:https://gronkyrka.se
X-WR-CALDESC:Händelser för Grön Kyrka
REFRESH-INTERVAL;VALUE=DURATION:PT1H
X-Robots-Tag:noindex
X-PUBLISHED-TTL:PT1H
BEGIN:VTIMEZONE
TZID:Europe/Stockholm
BEGIN:DAYLIGHT
TZOFFSETFROM:+0100
TZOFFSETTO:+0200
TZNAME:CEST
DTSTART:20250330T010000
END:DAYLIGHT
BEGIN:STANDARD
TZOFFSETFROM:+0200
TZOFFSETTO:+0100
TZNAME:CET
DTSTART:20251026T010000
END:STANDARD
BEGIN:DAYLIGHT
TZOFFSETFROM:+0100
TZOFFSETTO:+0200
TZNAME:CEST
DTSTART:20260329T010000
END:DAYLIGHT
BEGIN:STANDARD
TZOFFSETFROM:+0200
TZOFFSETTO:+0100
TZNAME:CET
DTSTART:20261025T010000
END:STANDARD
BEGIN:DAYLIGHT
TZOFFSETFROM:+0100
TZOFFSETTO:+0200
TZNAME:CEST
DTSTART:20270328T010000
END:DAYLIGHT
BEGIN:STANDARD
TZOFFSETFROM:+0200
TZOFFSETTO:+0100
TZNAME:CET
DTSTART:20271031T010000
END:STANDARD
END:VTIMEZONE
BEGIN:VEVENT
DTSTART;TZID=Europe/Stockholm:20260422T083000
DTEND;TZID=Europe/Stockholm:20260422T093000
DTSTAMP:20260422T134804
CREATED:20260217T150030Z
LAST-MODIFIED:20260410T130015Z
UID:10000127-1776846600-1776850200@gronkyrka.se
SUMMARY:Skapelsetid - webbinarium om vad\, hur och årets tema
DESCRIPTION:Skapelsetid är ett gemensamt initiativ\, varje år 1 september – 4 oktober\, där kyrkor och samfund över hela världen visar hur viktigt det är att i gudstjänsten och församlingslivet lyfta frågor som rör vårt förhållande till skapelsen. \nI det här webbinariet berättar Sveriges Kristna Råds arbetsgrupp för klimat och hållbarhet om hur olika församlingar har firat Skapelsetid tidigare år och satsningarna vi hoppas på i år! Webbinariet ges dagtid och kvällstid. \nLänk till mötet >
URL:https://gronkyrka.se/evenemang/skapelsetid-webbinarium-om-vad-hur-och-arets-tema-2/
LOCATION:Digitalt
ATTACH;FMTTYPE=image/png:https://gronkyrka.se/wp-content/uploads/sites/290/2026/02/soc-symbol20261.png
END:VEVENT
BEGIN:VEVENT
DTSTART;TZID=Europe/Stockholm:20260422T140000
DTEND;TZID=Europe/Stockholm:20260422T153000
DTSTAMP:20260422T134804
CREATED:20260311T141313Z
LAST-MODIFIED:20260311T141314Z
UID:10000135-1776866400-1776871800@gronkyrka.se
SUMMARY:Kyrkan och skogen - vad händer nu? Webbinarium
DESCRIPTION:Webbinarium onsdag den 22 april kl 14.00-15.30\nKyrkomötet i Svenska kyrkan gjorde hösten 2025 stora ändringar i\nkyrkoordningen för att inrikta förvaltningen av kyrkans så kallade\nprästlönetillgångar på ett mera varsamt skogsbruk. Vad betyder\nförändringarna i Kyrkoordningen för skogsbruket?\nInledningar av:\n– Julia Rensberg\, ledamot i Kyrkornas världsråds centralkommitté\, – Kyrkan och skogen ur samernas perspektiv\, FPIC\n– Anna Karin Hammar\, präst och teolog\, – Vad menar Kyrkoordningen med andlig\, ekologisk\, social och\nekonomisk hållbarhet?\n– Helena Eld\, chef för avd för egendomsförvaltning\, Uppsala stift\, – om konsekvenserna av den nya kyrkoordningen för Uppsala stift\n– Ingemar Södergren\, ordförande i Östhammars naturskyddsförening\, – lokala perspektiv\n– Stina Bergström\, förtroendevald i Uppsala stifts skogsförvaltning\, – om visioner för skogsbruket i Svenska kyrkan\nModerator: Ninna Edgardh\, prof em\, Uppsala universitet \nAnmälan till ninna.edgardh@crs.uu.se för Zoom-länk
URL:https://gronkyrka.se/evenemang/kyrkan-och-skogen-vad-hander-nu-webbinarium/
LOCATION:Digitalt
ATTACH;FMTTYPE=image/png:https://gronkyrka.se/wp-content/uploads/sites/290/2026/02/logga1.png
ORGANIZER;CN="Kyrkans v%C3%A4nner - %C3%96regrunds omst%C3%A4llningsakademi":MAILTO:ninna.edgardh@crs.uu.se
END:VEVENT
BEGIN:VEVENT
DTSTART;TZID=Europe/Stockholm:20260422T190000
DTEND;TZID=Europe/Stockholm:20260422T200000
DTSTAMP:20260422T134804
CREATED:20260217T145924Z
LAST-MODIFIED:20260410T125958Z
UID:10000126-1776884400-1776888000@gronkyrka.se
SUMMARY:Skapelsetid - webbinarium om vad\, hur och årets tema
DESCRIPTION:Skapelsetid är ett gemensamt initiativ\, varje år 1 september – 4 oktober\, där kyrkor och samfund över hela världen visar hur viktigt det är att i gudstjänsten och församlingslivet lyfta frågor som rör vårt förhållande till skapelsen. \nI det här webbinariet berättar Sveriges Kristna Råds arbetsgrupp för klimat och hållbarhet om hur olika församlingar har firat Skapelsetid tidigare år och satsningarna vi hoppas på i år! Webbinariet ges dagtid och kvällstid. \nLänk till mötet >
URL:https://gronkyrka.se/evenemang/skapelsetid-webbinarium-om-vad-hur-och-arets-tema/
LOCATION:Digitalt
ATTACH;FMTTYPE=image/png:https://gronkyrka.se/wp-content/uploads/sites/290/2026/02/soc-symbol20261.png
END:VEVENT
END:VCALENDAR